Workbook
Name ACLData: CustomerAccessControlSuggest!$A$31:$K$211
Name CustomerName: CustomerAccessControlSuggest!$F$9
Name LocationSelectedValue: LocationValues!$A$2:$A$3
Name Metadata: 'ACL-Info'!$B$2:$F$3

Sheet ACL-Info
B2: Version | C2: DataCenter | D2: ContactName | E2: Email | F2: LastModificationDate
B3: 1.0 | E3: servicecenter@terremark.com | F3: 2013-09-23T00:00:00

Sheet LocationValues
A2: SelectedValue | B2: Locations
A3: =Data_Entry!N14 -> Data center Location | B3: Data center Location
B4: AMS1
B5: AMS2
B6: AU-MEL-SPENC
B7: AU-SYD-PYRM
B8: A-VIEN
B9: BE-BRUS-RDLS
B10: BE-DIEG2E
B11: BWI1
B12: CH-ZUR
B13: DK-CPH-GLOSTRUP
B14: FR-LILL
B15: FR-LYON
... B58: US-NC-RAL

Sheet CustomerAccessControlSuggest
A1: For Internal Verizon Use Only. For Customers: please fill in the Data_Entry tab.
F3: Customer Access Control Form
E4: Account Name:
E6: Account Number:
E11: Please complete this form and return to the Verizon Service Center ( servicecenter@verizon.com )
D13: Place an X in all that applies below for what each person is authorized to request at Verizon:
C15: Administrator: | D15: Authorizes modifications to the customer's ACL and has full access to all listed below. Select 2 people available 24x7.
C17: Account Management: | D17: Authorizes person to manage the ACL Account for the purpose of requesting 3rd Party Access.
C19: Billing: | D19: Authorizes person to make financial inquiries or provide financial information on behalf of the customer.
C21: Support: | D21: Authorizes person to open and follow up on Trouble Tickets including Smart and Remote Hands Services (billed in hourly increments).
C23: Notifications: | D23: Authorizes person to be sent Verizon Notifications such as maintenance notices, hurricane updates, Change Request Notifications, Emergency Change Request Notifications and etc. Only persons with this box checked will be notified. Accessed and determined by the Admin and AM (roles pending).
C25: Reporting: | D25: Authorizes person to access/receive all reports for the account that pertain to the line of business.
C27: Building Access: | D27: Authorizes person to access the leased Colocation environment.
C28: It is the customer's responsibility to notify Verizon when personnel are to be added or removed from their access control list.
C29: All routine & emergency notifications are to be submitted to the Verizon Customer Service Center
A31: Last Name | B31: First Name | C31: Business Phone | D31: Cell Phone | E31: Email Address | F31: Remove ALL Access | G31: =Data_Entry!N14 -> Data center Location | I31: If Temp Access Date/Time From | J31: If Temp Access Date/Time To | K31: Comments
A32: =IF(Data_Entry!C23="","", Data_Entry!C23) -> Jane | B32: =IF(Data_Entry!D23="","", Data_Entry!D23) -> Doe | C32: =IF(Data_Entry!E23="","", Data_Entry!E23) -> 1-415-555-0101 | D32: =IF(Data_Entry!F23="","", Data_Entry!F23) -> +44 20 7946 0101 | E32: =IF(Data_Entry!G23="","", Data_Entry!G23) -> jane@example.com | F32: =IF(Data_Entry!H23="","", Data_Entry!H23) | G32: Contact Categories
G33: Administrator | H33: =IF(Data_Entry!I23="","", Data_Entry!I23) -> X | I33: =IF(Data_Entry!M23="", "", TEXT(Data_Entry!M23, "mm-dd-yyyy hh:mmAM/PM")) | J33: =IF(Data_Entry!N23="", "", TEXT(Data_Entry!N23, "mm-dd-yyyy hh:mmAM/PM"))
G34: Account Management | H34: =IF(Data_Entry!J23="","", Data_Entry!J23) -> X
G35: Ordering
G36: Billing
G37: Support | H37: =IF(Data_Entry!K23="","", Data_Entry!K23) -> X
G38: Notifications
G39: Reporting
G40: Building Access | H40: =IF(Data_Entry!L23="","", Data_Entry!L23) -> X | K40: =IF(Data_Entry!O23="","", Data_Entry!O23) -> List Changes Request Example
A41: =IF(Data_Entry!C24="","", Data_Entry!C24) -> John | B41: =IF(Data_Entry!D24="","", Data_Entry!D24) -> Smith | C41: =IF(Data_Entry!E24="","", Data_Entry!E24) -> 1-415-555-0102 | D41: =IF(Data_Entry!F24="","", Data_Entry!F24) -> +44 20 7946 0102 | E41: =IF(Data_Entry!G24="","", Data_Entry!G24) -> john@example.net | F41: =IF(Data_Entry!H24="","", Data_Entry!H24) | G41: Contact Categories
G42: Administrator | H42: =IF(Data_Entry!I24="","", Data_Entry!I24) | I42: =IF(Data_Entry!M24="", "", TEXT(Data_Entry!M24, "mm-dd-yyyy hh:mmAM/PM")) -> 07-20-2026 09:30AM | J42: =IF(Data_Entry!N24="", "", TEXT(Data_Entry!N24, "mm-dd-yyyy hh:mmAM/PM")) -> 07-21-2026 07:30PM
G43: Account Management | H43: =IF(Data_Entry!J24="","", Data_Entry!J24)
G44: Ordering
G45: Billing
G46: Support | H46: =IF(Data_Entry!K24="","", Data_Entry!K24)
G47: Notifications
G48: Reporting
G49: Building Access | H49: =IF(Data_Entry!L24="","", Data_Entry!L24) -> X | K49: =IF(Data_Entry!O24="","", Data_Entry!O24) -> Site Access Request Example
A50: =IF(Data_Entry!C25="","", Data_Entry!C25) | B50: =IF(Data_Entry!D25="","", Data_Entry!D25) | C50: =IF(Data_Entry!E25="","", Data_Entry!E25) | D50: =IF(Data_Entry!F25="","", Data_Entry!F25) | E50: =IF(Data_Entry!G25="","", Data_Entry!G25) | F50: =IF(Data_Entry!H25="","", Data_Entry!H25) | G50: Contact Categories
G51: Administrator | H51: =IF(Data_Entry!I25="","", Data_Entry!I25) | I51: =IF(Data_Entry!M25="", "", TEXT(Data_Entry!M25, "mm-dd-yyyy hh:mmAM/PM")) | J51: =IF(Data_Entry!N25="", "", TEXT(Data_Entry!N25, "mm-dd-yyyy hh:mmAM/PM"))
G52: Account Management | H52: =IF(Data_Entry!J25="","", Data_Entry!J25)
G53: Ordering
G54: Billing
G55: Support | H55: =IF(Data_Entry!K25="","", Data_Entry!K25)
G56: Notifications
G57: Reporting
G58: Building Access | H58: =IF(Data_Entry!L25="","", Data_Entry!L25) | K58: =IF(Data_Entry!O25="","", Data_Entry!O25)
A59: =IF(Data_Entry!C26="","", Data_Entry!C26) | B59: =IF(Data_Entry!D26="","", Data_Entry!D26) | C59: =IF(Data_Entry!E26="","", Data_Entry!E26) | D59: =IF(Data_Entry!F26="","", Data_Entry!F26) | E59: =IF(Data_Entry!G26="","", Data_Entry!G26) | F59: =IF(Data_Entry!H26="","", Data_Entry!H26) | G59: Contact Categories
G60: Administrator | H60: =IF(Data_Entry!I26="","", Data_Entry!I26) | I60: =IF(Data_Entry!M26="", "", TEXT(Data_Entry!M26, "mm-dd-yyyy hh:mmAM/PM")) | J60: =IF(Data_Entry!N26="", "", TEXT(Data_Entry!N26, "mm-dd-yyyy hh:mmAM/PM"))
G61: Account Management | H61: =IF(Data_Entry!J26="","", Data_Entry!J26)
G62: Ordering
G63: Billing
G64: Support | H64: =IF(Data_Entry!K26="","", Data_Entry!K26)
G65: Notifications
G66: Reporting
G67: Building Access | H67: =IF(Data_Entry!L26="","", Data_Entry!L26) | K67: =IF(Data_Entry!O26="","", Data_Entry!O26)
A68: =IF(Data_Entry!C27="","", Data_Entry!C27) | B68: =IF(Data_Entry!D27="","", Data_Entry!D27) | C68: =IF(Data_Entry!E27="","", Data_Entry!E27) | D68: =IF(Data_Entry!F27="","", Data_Entry!F27) | E68: =IF(Data_Entry!G27="","", Data_Entry!G27) | F68: =IF(Data_Entry!H27="","", Data_Entry!H27) | G68: Contact Categories
G69: Administrator | H69: =IF(Data_Entry!I27="","", Data_Entry!I27) | I69: =IF(Data_Entry!M27="", "", TEXT(Data_Entry!M27, "mm-dd-yyyy hh:mmAM/PM")) | J69: =IF(Data_Entry!N27="", "", TEXT(Data_Entry!N27, "mm-dd-yyyy hh:mmAM/PM"))
G70: Account Management | H70: =IF(Data_Entry!J27="","", Data_Entry!J27)
G71: Ordering
G72: Billing
G73: Support | H73: =IF(Data_Entry!K27="","", Data_Entry!K27)
G74: Notifications
G75: Reporting
G76: Building Access | H76: =IF(Data_Entry!L27="","", Data_Entry!L27) | K76: =IF(Data_Entry!O27="","", Data_Entry!O27)
A77: =IF(Data_Entry!C28="","", Data_Entry!C28) | B77: =IF(Data_Entry!D28="","", Data_Entry!D28) | C77: =IF(Data_Entry!E28="","", Data_Entry!E28) | D77: =IF(Data_Entry!F28="","", Data_Entry!F28) | E77: =IF(Data_Entry!G28="","", Data_Entry!G28) | F77: =IF(Data_Entry!H28="","", Data_Entry!H28) | G77: Contact Categories
G78: Administrator | H78: =IF(Data_Entry!I28="","", Data_Entry!I28) | I78: =IF(Data_Entry!M28="", "", TEXT(Data_Entry!M28, "mm-dd-yyyy hh:mmAM/PM")) | J78: =IF(Data_Entry!N28="", "", TEXT(Data_Entry!N28, "mm-dd-yyyy hh:mmAM/PM"))
G79: Account Management | H79: =IF(Data_Entry!J28="","", Data_Entry!J28)
G80: Ordering
G81: Billing
G82: Support | H82: =IF(Data_Entry!K28="","", Data_Entry!K28)
G83: Notifications
G84: Reporting
G85: Building Access | H85: =IF(Data_Entry!L28="","", Data_Entry!L28) | K85: =IF(Data_Entry!O28="","", Data_Entry!O28)
A86: =IF(Data_Entry!C29="","", Data_Entry!C29) | B86: =IF(Data_Entry!D29="","", Data_Entry!D29) | C86: =IF(Data_Entry!E29="","", Data_Entry!E29) | D86: =IF(Data_Entry!F29="","", Data_Entry!F29) | E86: =IF(Data_Entry!G29="","", Data_Entry!G29) | F86: =IF(Data_Entry!H29="","", Data_Entry!H29) | G86: Contact Categories
G87: Administrator | H87: =IF(Data_Entry!I29="","", Data_Entry!I29) | I87: =IF(Data_Entry!M29="", "", TEXT(Data_Entry!M29, "mm-dd-yyyy hh:mmAM/PM")) | J87: =IF(Data_Entry!N29="", "", TEXT(Data_Entry!N29, "mm-dd-yyyy hh:mmAM/PM"))
G88: Account Management | H88: =IF(Data_Entry!J29="","", Data_Entry!J29)
G89: Ordering
G90: Billing
G91: Support | H91: =IF(Data_Entry!K29="","", Data_Entry!K29)
G92: Notifications
G93: Reporting
G94: Building Access | H94: =IF(Data_Entry!L29="","", Data_Entry!L29) | K94: =IF(Data_Entry!O29="","", Data_Entry!O29)
A95: =IF(Data_Entry!C30="","", Data_Entry!C30) | B95: =IF(Data_Entry!D30="","", Data_Entry!D30) | C95: =IF(Data_Entry!E30="","", Data_Entry!E30) | D95: =IF(Data_Entry!F30="","", Data_Entry!F30) | E95: =IF(Data_Entry!G30="","", Data_Entry!G30) | F95: =IF(Data_Entry!H30="","", Data_Entry!H30) | G95: Contact Categories
G96: Administrator | H96: =IF(Data_Entry!I30="","", Data_Entry!I30) | I96: =IF(Data_Entry!M30="", "", TEXT(Data_Entry!M30, "mm-dd-yyyy hh:mmAM/PM")) | J96: =IF(Data_Entry!N30="", "", TEXT(Data_Entry!N30, "mm-dd-yyyy hh:mmAM/PM"))
G97: Account Management | H97: =IF(Data_Entry!J30="","", Data_Entry!J30)
G98: Ordering
G99: Billing
G100: Support | H100: =IF(Data_Entry!K30="","", Data_Entry!K30)
G101: Notifications
G102: Reporting
G103: Building Access | H103: =IF(Data_Entry!L30="","", Data_Entry!L30) | K103: =IF(Data_Entry!O30="","", Data_Entry!O30)
A104: =IF(Data_Entry!C31="","", Data_Entry!C31) | B104: =IF(Data_Entry!D31="","", Data_Entry!D31) | C104: =IF(Data_Entry!E31="","", Data_Entry!E31) | D104: =IF(Data_Entry!F31="","", Data_Entry!F31) | E104: =IF(Data_Entry!G31="","", Data_Entry!G31) | F104: =IF(Data_Entry!H31="","", Data_Entry!H31) | G104: Contact Categories
G105: Administrator | H105: =IF(Data_Entry!I31="","", Data_Entry!I31) | I105: =IF(Data_Entry!M31="", "", TEXT(Data_Entry!M31, "mm-dd-yyyy hh:mmAM/PM")) | J105: =IF(Data_Entry!N31="", "", TEXT(Data_Entry!N31, "mm-dd-yyyy hh:mmAM/PM"))
G106: Account Management | H106: =IF(Data_Entry!J31="","", Data_Entry!J31)
G107: Ordering
G108: Billing
G109: Support | H109: =IF(Data_Entry!K31="","", Data_Entry!K31)
G110: Notifications
G111: Reporting
G112: Building Access | H112: =IF(Data_Entry!L31="","", Data_Entry!L31) | K112: =IF(Data_Entry!O31="","", Data_Entry!O31)
A113: =IF(Data_Entry!C32="","", Data_Entry!C32) | B113: =IF(Data_Entry!D32="","", Data_Entry!D32) | C113: =IF(Data_Entry!E32="","", Data_Entry!E32) | D113: =IF(Data_Entry!F32="","", Data_Entry!F32) | E113: =IF(Data_Entry!G32="","", Data_Entry!G32) | F113: =IF(Data_Entry!H32="","", Data_Entry!H32) | G113: Contact Categories
G114: Administrator | H114: =IF(Data_Entry!I32="","", Data_Entry!I32) | I114: =IF(Data_Entry!M32="", "", TEXT(Data_Entry!M32, "mm-dd-yyyy hh:mmAM/PM")) | J114: =IF(Data_Entry!N32="", "", TEXT(Data_Entry!N32, "mm-dd-yyyy hh:mmAM/PM"))
G115: Account Management | H115: =IF(Data_Entry!J32="","", Data_Entry!J32)
...

Sheet Data_Entry
O3: Colocation Service Center / Data Center Access Control Form
C7: Please complete this form and return to the Verizon Service Center ( servicecenter@verizon.com ) | L7: Company Name
C9: Place an X in all that applies below for what each person is authorized to request at Verizon: | L9: Account Number
C11: Administrator: | D11: Authorizes modifications to the customer's ACL and has full access to all listed below. Select 2 people available 24x7.
C12: Account Management: | D12: Authorizes person to manage the ACL Account for the purpose of requesting 3rd Party Access.
C13: Support: | D13: Authorizes person to open and follow up on Trouble Tickets including Smart and Remote Hands Services (billed in hourly increments) | N13: Please click on the drop down menu below to select the data center
C14: Building Access: | D14: Authorizes person to access the leased Colocation environment. | L14: Data Center | N14: Data center Location
L15: Location
C16: It is the customer's responsibility to notify Verizon when personnel are to be added or removed from their access control list.
C17: All routine & emergency notifications are to be submitted to the Verizon Customer Service Center
C20: Last Name | D20: First Name | E20: Business Phone | F20: Mobile Phone | G20: Email Address | H20: Remove ALL Access | I20: Contact Categories | M20: For Building Access Only (if Temporary Access, fill in below) | O20: Comments
I21: Administrator | J21: 3rd Party Access | K21: Support | L21: Building Access | M21: Start Date and Time (Local Time) | N21: End Date and Time (Local Time)
C23: Jane | D23: Doe | E23: 1-415-555-0101 | F23: +44 20 7946 0101 | G23: jane@example.com | I23: X | J23: X | K23: X | L23: X | O23: List Changes Request Example
C24: John | D24: Smith | E24: 1-415-555-0102 | F24: +44 20 7946 0102 | G24: john@example.net | L24: X | M24: 07-20-2026 09:30AM | N24: 07-21-2026 07:30PM | O24: Site Access Request Example
C43: You have reached the 20 contact limit per Form. If you need to make additional changes, please use an additional Form.
